BEGIN:VCALENDAR
VERSION:2.0
PRODID:-//Colegio San Francisco de Asís de La Florida - ECPv5.9.1//NONSGML v1.0//EN
CALSCALE:GREGORIAN
METHOD:PUBLISH
X-WR-CALNAME:Colegio San Francisco de Asís de La Florida
X-ORIGINAL-URL:http://colegiosanfco.cl/inicio
X-WR-CALDESC:Eventos para Colegio San Francisco de Asís de La Florida
BEGIN:VTIMEZONE
TZID:UTC
BEGIN:STANDARD
TZOFFSETFROM:+0000
TZOFFSETTO:+0000
TZNAME:UTC
DTSTART:20210101T000000
END:STANDARD
END:VTIMEZONE
BEGIN:VEVENT
DTSTART;VALUE=DATE:20211014
DTEND;VALUE=DATE:20211015
DTSTAMP:20260423T233315
CREATED:20211014T163302Z
LAST-MODIFIED:20211014T163302Z
UID:4704-1634169600-1634255999@colegiosanfco.cl
SUMMARY:Atención IV medio C
DESCRIPTION:
URL:http://colegiosanfco.cl/inicio/evento/atencion-iv-medio-c/
CATEGORIES:Evaluaciones
ATTACH;FMTTYPE=image/jpeg:http://colegiosanfco.cl/inicio/wp-content/uploads/2021/10/IV-medio-C-14-de-oct.jpg
END:VEVENT
BEGIN:VEVENT
DTSTART;VALUE=DATE:20211014
DTEND;VALUE=DATE:20211015
DTSTAMP:20260423T233315
CREATED:20211014T163824Z
LAST-MODIFIED:20211014T164647Z
UID:4709-1634169600-1634255999@colegiosanfco.cl
SUMMARY:Plan Diferenciado 2022
DESCRIPTION:
URL:http://colegiosanfco.cl/inicio/evento/plan-diferenciado-2022/
CATEGORIES:Formulario
ATTACH;FMTTYPE=image/png:http://colegiosanfco.cl/inicio/wp-content/uploads/2021/10/CONSULTA-FINAL-1.png
END:VEVENT
BEGIN:VEVENT
DTSTART;VALUE=DATE:20211014
DTEND;VALUE=DATE:20211015
DTSTAMP:20260423T233315
CREATED:20211014T165947Z
LAST-MODIFIED:20211014T165947Z
UID:4713-1634169600-1634255999@colegiosanfco.cl
SUMMARY:Atención IV Medios
DESCRIPTION:
URL:http://colegiosanfco.cl/inicio/evento/atencion-iv-medios/
CATEGORIES:Evaluaciones
ATTACH;FMTTYPE=image/jpeg:http://colegiosanfco.cl/inicio/wp-content/uploads/2021/10/IV-medios-cambio-de-fechas.jpg
END:VEVENT
BEGIN:VEVENT
DTSTART;TZID=UTC:20211014T093000
DTEND;TZID=UTC:20211014T180000
DTSTAMP:20260423T233315
CREATED:20211014T123105Z
LAST-MODIFIED:20211014T141722Z
UID:4684-1634203800-1634234400@colegiosanfco.cl
SUMMARY:Feliz Día del Profes@r
DESCRIPTION:«El mejor profesor no es el que sabe más\, sino aquel que hace que el estudiante aprenda más…» \nA los mejores profesores muchas gracias \n  \nTan noble labor merece un justo reconocimiento\, pues son los Profesores los encargados de forjar los espíritus que mañana dirigirán los destinos de vuestros hijos(as) y de nuestra nación. \nJunto con nuestro homenaje vaya también un poco de historia para conocer por qué esta es la fecha escogida para tal celebración. \nEl origen de la celebración del día del Profesor se remonta a la Primera Conferencia de Ministros y Directores de Educación de las Repúblicas Americanas\, espacio donde se acordó instituir como el Día del Maestro del continente el día 11 de septiembre\, que es la fecha de aniversario de la muerte del educador argentino Domingo Faustino Sarmiento. Sin embargo\, en Chile se celebra cada 16 de octubre\, fecha que quedó fijada definitivamente en 1977 y la cual coincide con la fundación del Colegio de Profesores de Chile. \nEl reconocimiento público en Chile para nuestros esforzados maestros se comenzó a estudiar en el año 1943\, cuando se realizó la Primera Conferencia Interamericana de Educación\, en Panamá\, integrada por educadores de toda América. \nEn aquella ocasión se decidió establecer el día 11 de septiembre como el Día del Maestro\, en honor a Domingo Faustino Sarmiento\, profesor argentino\, iniciador de la cultura y educación\, que había muerto en esa misma fecha\, 55 años antes\, y había aportado muchísimo a la educación latinoamericana. \nEn Chile\, su actividad en la enseñanza y en el periodismo fue notable. Organizó la Primera Escuela del Magisterio en Sudamérica y publicó artículos en El Mercurio de Valparaíso y en El Progreso de Santiago. \nAsí\, el día 11 de septiembre de 1943\, siendo Presidente de la República don Juan Antonio Ríos\, y Ministro de Educación don Benjamín Claro\, se publicó el siguiente decreto: “Se declara ‘Día del Maestro’ el 11 de septiembre. Todos los años en los establecimientos educacionales del país se celebrarán festividades cívicas\, veladas y otros actos educativos”. \nPosteriormente\, siendo Presidente de la República Don Eduardo Frei Montalva y Ministro de Educación Juan Gómez Millas\, se ratificó el 11 de septiembre mediante la publicación de la Ley Nº 16.662 del año 1967. \nAños después\, específicamente en octubre de 1974\, se fijó el 10 de diciembre como fecha de celebración\, en homenaje al Premio Nobel de Literatura\, Gabriela Mistral\, quien recibió dicha distinción la misma fecha\, pero en el año 1945. \nNo obstante\, fue en 1977 cuando quedó fijada la fecha definitiva de celebración en nuestro país\, el día 16 de octubre\, ya que coincide con la fundación del Colegio de Profesores de Chile. \nEn la época en que vivimos\, necesitamos formar a personas con la Fe\, la ciencia\, la técnica\, la cultura\, los valores y criterios del contexto actual. Personas que entiendan que más importante que el conocimiento en sí\, es saber alimentarlo\, corregirlo\, aplicarlo en la toma de decisiones\, y sobre todo transmitirlo para permanecer nutriéndose con la retroalimentación del saber. \nRecordemos hoy a todos los Profesores y Profesoras que se han desempeñado en nuestra Escuela al alero de nuestras Hermanas Religiosas de la Congregación de Hermanas Terceras Franciscanas Misioneras de la Inmaculada Concepción\, y bajo la inspiración de nuestra Hermana Fundadora Madre María del Carmen Fuenzalida Iturriaga. \n 
URL:http://colegiosanfco.cl/inicio/evento/feliz-dia-de-la-profesora-el-profesor-y-el-asistente-de-la-educacion/
CATEGORIES:Celebraciones,Evaluaciones
ATTACH;FMTTYPE=image/png:http://colegiosanfco.cl/inicio/wp-content/uploads/2021/10/profe-ok.png
END:VEVENT
END:VCALENDAR