BEGIN:VCALENDAR
VERSION:2.0
PRODID:-//Colegio San Francisco de Asís de La Florida - ECPv5.9.1//NONSGML v1.0//EN
CALSCALE:GREGORIAN
METHOD:PUBLISH
X-WR-CALNAME:Colegio San Francisco de Asís de La Florida
X-ORIGINAL-URL:http://colegiosanfco.cl/inicio
X-WR-CALDESC:Eventos para Colegio San Francisco de Asís de La Florida
BEGIN:VTIMEZONE
TZID:UTC
BEGIN:STANDARD
TZOFFSETFROM:+0000
TZOFFSETTO:+0000
TZNAME:UTC
DTSTART:20210101T000000
END:STANDARD
END:VTIMEZONE
BEGIN:VEVENT
DTSTART;VALUE=DATE:20211019
DTEND;VALUE=DATE:20211020
DTSTAMP:20260423T233404
CREATED:20211019T141235Z
LAST-MODIFIED:20211027T174211Z
UID:4726-1634601600-1634687999@colegiosanfco.cl
SUMMARY:Evaluaciones octubre
DESCRIPTION:Descargar DRIVE \n1° Básico a 6° Básico \n7° Básico a 8° Básico \nI medio a IV medio \n 
URL:http://colegiosanfco.cl/inicio/evento/evaluaciones-octubre/
CATEGORIES:Evaluaciones
ATTACH;FMTTYPE=image/png:http://colegiosanfco.cl/inicio/wp-content/uploads/2021/09/calen-eva-sep.png
END:VEVENT
BEGIN:VEVENT
DTSTART;VALUE=DATE:20211019
DTEND;VALUE=DATE:20211020
DTSTAMP:20260423T233404
CREATED:20211019T163710Z
LAST-MODIFIED:20211019T163724Z
UID:4735-1634601600-1634687999@colegiosanfco.cl
SUMMARY:Suspención de Evaluación
DESCRIPTION:
URL:http://colegiosanfco.cl/inicio/evento/suspencion-evaluacion/
CATEGORIES:Evaluaciones
ATTACH;FMTTYPE=image/jpeg:http://colegiosanfco.cl/inicio/wp-content/uploads/2021/10/I-medio-19-de-oct.jpg
END:VEVENT
BEGIN:VEVENT
DTSTART;VALUE=DATE:20211019
DTEND;VALUE=DATE:20211020
DTSTAMP:20260423T233404
CREATED:20211019T164917Z
LAST-MODIFIED:20211019T164934Z
UID:4739-1634601600-1634687999@colegiosanfco.cl
SUMMARY:Cambio Fecha III medio B
DESCRIPTION:
URL:http://colegiosanfco.cl/inicio/evento/cambio-fecha-iii-medio-b/
CATEGORIES:Evaluaciones
ATTACH;FMTTYPE=image/jpeg:http://colegiosanfco.cl/inicio/wp-content/uploads/2021/10/II-medio-B-19-de-ocy.jpg
END:VEVENT
BEGIN:VEVENT
DTSTART;TZID=UTC:20211019T103000
DTEND;TZID=UTC:20211019T103000
DTSTAMP:20260423T233404
CREATED:20211015T143158Z
LAST-MODIFIED:20211015T143158Z
UID:4720-1634639400-1634639400@colegiosanfco.cl
SUMMARY:Simulacro
DESCRIPTION:Simulacro Regional
URL:http://colegiosanfco.cl/inicio/evento/simulacro/
CATEGORIES:Simulacro
END:VEVENT
END:VCALENDAR