BEGIN:VCALENDAR
VERSION:2.0
PRODID:-//Colegio San Francisco de Asís de La Florida - ECPv5.9.1//NONSGML v1.0//EN
CALSCALE:GREGORIAN
METHOD:PUBLISH
X-WR-CALNAME:Colegio San Francisco de Asís de La Florida
X-ORIGINAL-URL:http://colegiosanfco.cl/inicio
X-WR-CALDESC:Eventos para Colegio San Francisco de Asís de La Florida
BEGIN:VTIMEZONE
TZID:UTC
BEGIN:STANDARD
TZOFFSETFROM:+0000
TZOFFSETTO:+0000
TZNAME:UTC
DTSTART:20210101T000000
END:STANDARD
END:VTIMEZONE
BEGIN:VEVENT
DTSTART;TZID=UTC:20211104T080000
DTEND;TZID=UTC:20211104T170000
DTSTAMP:20260423T215800
CREATED:20211104T140524Z
LAST-MODIFIED:20211104T143212Z
UID:4910-1636012800-1636045200@colegiosanfco.cl
SUMMARY:Invitación Semana INGENIOSAS 2021
DESCRIPTION:Del 2 al 12 de noviembre\, no te pierdas una nueva versión de Semana Ingeniosas\, el festival STEM para ¡niñas y adolescentes de toda Latinoamérica! Charlas inspiracionales e interactivas y talleres serán parte de esta quinta versión.\n\n\n\n\n\n\n\n\n\n\n¡Inscríbete en la programación!\n  \nhttps://ingeniosas.org/\n 
URL:http://colegiosanfco.cl/inicio/evento/invitacion-semana-ingeniosas-2021/
CATEGORIES:Celebraciones
END:VEVENT
BEGIN:VEVENT
DTSTART;TZID=UTC:20211104T080000
DTEND;TZID=UTC:20211104T170000
DTSTAMP:20260423T215800
CREATED:20211104T201456Z
LAST-MODIFIED:20211104T201456Z
UID:4916-1636012800-1636045200@colegiosanfco.cl
SUMMARY:COMUNICADO CIERRE AÑO ESCOLAR IV MEDIOS A-B-C
DESCRIPTION:Estimados padres\, estimadas madres y apoderados/as a continuación informamos a\nustedes el proceso de cierre del año escolar para 4° Medio\, teniendo en consideración\nlo siguiente: seguir leyendo… descargue aquí
URL:http://colegiosanfco.cl/inicio/evento/comunicado-cierre-ano-escolar-iv-medios-a-b-c/
END:VEVENT
END:VCALENDAR