BEGIN:VCALENDAR
VERSION:2.0
PRODID:-//Colegio San Francisco de Asís de La Florida - ECPv5.9.1//NONSGML v1.0//EN
CALSCALE:GREGORIAN
METHOD:PUBLISH
X-WR-CALNAME:Colegio San Francisco de Asís de La Florida
X-ORIGINAL-URL:http://colegiosanfco.cl/inicio
X-WR-CALDESC:Eventos para Colegio San Francisco de Asís de La Florida
BEGIN:VTIMEZONE
TZID:UTC
BEGIN:STANDARD
TZOFFSETFROM:+0000
TZOFFSETTO:+0000
TZNAME:UTC
DTSTART:20210101T000000
END:STANDARD
END:VTIMEZONE
BEGIN:VEVENT
DTSTART;VALUE=DATE:20211117
DTEND;VALUE=DATE:20211118
DTSTAMP:20260423T215713
CREATED:20211117T165700Z
LAST-MODIFIED:20211117T165700Z
UID:5196-1637107200-1637193599@colegiosanfco.cl
SUMMARY:"EFECTOS DE LAS REDES SOCIALES EN NUESTROS HIJOS E HIJAS".
DESCRIPTION:invitación desde el Programa de Parentalidad de SENDA Previene sobre un webinar :«EFECTOS DE LAS REDES SOCIALES EN NUESTROS HIJOS E HIJAS». Se que este tema se ha abordado con otros talleres pasados pero siempre es bueno seguir reforzando.\n\nLa actividad tiene el objetivo de aportar en una crianza respetuosa y estará a cargo de Joan Black\, Psicóloga clínica el dia de hoy\, miércoles 17 de noviembre a las 19:30 hras vía Streaming (youtube)\, la actividad es gratuita y está dirigida a Madres\, Padres y adultos cuidadores. Centro de Padres y Apoderados del recinto Educacional.\nPara participar deberán registrarse en el siguiente link para que posteriormente les llegue el link de acceso.\n\nhttps://forms.gle/xsidXVxPhzkhbVGC9\n\nEnvío adjunto flyers de la actividad y espero se pueda difundir en rss del Colegio\, saludos y que tengan un buen día.\n \n\n—\n \n\n            Maria Soledad Carrasco CH. \n                      PSICÓLOGA\n      Psicoterapia- Terapeuta Flores de Bach.\n   «El saber es el único espacio de libertad del ser»
URL:http://colegiosanfco.cl/inicio/evento/efectos-de-las-redes-sociales-en-nuestros-hijos-e-hijas/
CATEGORIES:Celebraciones,Formulario
ATTACH;FMTTYPE=image/jpeg:http://colegiosanfco.cl/inicio/wp-content/uploads/2021/11/ConversatorioParentalidad_17Nov.jpg
END:VEVENT
BEGIN:VEVENT
DTSTART;TZID=UTC:20211117T080000
DTEND;TZID=UTC:20211117T170000
DTSTAMP:20260423T215713
CREATED:20211109T164633Z
LAST-MODIFIED:20211109T164633Z
UID:4978-1637136000-1637168400@colegiosanfco.cl
SUMMARY:Misa de Envío y Éxodo 2021 IV Medios
DESCRIPTION:
URL:http://colegiosanfco.cl/inicio/evento/misa-de-envio-y-exodo-2021-iv-medios-2/
CATEGORIES:Celebraciones
ATTACH;FMTTYPE=image/jpeg:http://colegiosanfco.cl/inicio/wp-content/uploads/2021/11/exomisok-1.jpg
END:VEVENT
BEGIN:VEVENT
DTSTART;TZID=UTC:20211117T080000
DTEND;TZID=UTC:20211117T170000
DTSTAMP:20260423T215713
CREATED:20211117T163309Z
LAST-MODIFIED:20211117T163309Z
UID:5194-1637136000-1637168400@colegiosanfco.cl
SUMMARY:Misa Envío 8° Básico A-B-C
DESCRIPTION:
URL:http://colegiosanfco.cl/inicio/evento/misa-envio-8-basico-a-b-c-2/
CATEGORIES:Celebraciones,Comunicados
ATTACH;FMTTYPE=image/png:http://colegiosanfco.cl/inicio/wp-content/uploads/2021/11/misaenvia8.png
END:VEVENT
END:VCALENDAR