BEGIN:VCALENDAR
VERSION:2.0
PRODID:-//Colegio San Francisco de Asís de La Florida - ECPv5.9.1//NONSGML v1.0//EN
CALSCALE:GREGORIAN
METHOD:PUBLISH
X-WR-CALNAME:Colegio San Francisco de Asís de La Florida
X-ORIGINAL-URL:http://colegiosanfco.cl/inicio
X-WR-CALDESC:Eventos para Colegio San Francisco de Asís de La Florida
BEGIN:VTIMEZONE
TZID:UTC
BEGIN:STANDARD
TZOFFSETFROM:+0000
TZOFFSETTO:+0000
TZNAME:UTC
DTSTART:20220101T000000
END:STANDARD
END:VTIMEZONE
BEGIN:VEVENT
DTSTART;TZID=UTC:20220426T080000
DTEND;TZID=UTC:20220426T170000
DTSTAMP:20260423T140048
CREATED:20220413T162758Z
LAST-MODIFIED:20220413T163531Z
UID:5835-1650960000-1650992400@colegiosanfco.cl
SUMMARY:Presentación de Listas y Proyectos CEF I a IV medio 2022
DESCRIPTION:
URL:http://colegiosanfco.cl/inicio/evento/cronograma-cef-i-a-iv-medio-2022/
CATEGORIES:Celebraciones,Informativos,Noticias
ATTACH;FMTTYPE=image/png:http://colegiosanfco.cl/inicio/wp-content/uploads/2022/04/26-de-abril.png
END:VEVENT
END:VCALENDAR