BEGIN:VCALENDAR
VERSION:2.0
PRODID:-//Colegio San Francisco de Asís de La Florida - ECPv5.9.1//NONSGML v1.0//EN
CALSCALE:GREGORIAN
METHOD:PUBLISH
X-WR-CALNAME:Colegio San Francisco de Asís de La Florida
X-ORIGINAL-URL:http://colegiosanfco.cl/inicio
X-WR-CALDESC:Eventos para Colegio San Francisco de Asís de La Florida
BEGIN:VTIMEZONE
TZID:UTC
BEGIN:STANDARD
TZOFFSETFROM:+0000
TZOFFSETTO:+0000
TZNAME:UTC
DTSTART:20220101T000000
END:STANDARD
END:VTIMEZONE
BEGIN:VEVENT
DTSTART;TZID=UTC:20220527T080000
DTEND;TZID=UTC:20220527T140000
DTSTAMP:20260421T142500
CREATED:20220526T215329Z
LAST-MODIFIED:20220526T215329Z
UID:6307-1653638400-1653660000@colegiosanfco.cl
SUMMARY:27 de mayo Semana de la Educación Artística
DESCRIPTION:Estimada Comunidad este 27 de mayo el colegio estará intervenido con una muestra Artística con trabajos de ustedes
URL:http://colegiosanfco.cl/inicio/evento/27-de-mayo-semana-de-la-educacion-artistica/
CATEGORIES:Celebraciones,Noticias
END:VEVENT
END:VCALENDAR