BEGIN:VCALENDAR
VERSION:2.0
PRODID:-//Colegio San Francisco de Asís de La Florida - ECPv5.9.1//NONSGML v1.0//EN
CALSCALE:GREGORIAN
METHOD:PUBLISH
X-WR-CALNAME:Colegio San Francisco de Asís de La Florida
X-ORIGINAL-URL:http://colegiosanfco.cl/inicio
X-WR-CALDESC:Eventos para Colegio San Francisco de Asís de La Florida
BEGIN:VTIMEZONE
TZID:UTC
BEGIN:STANDARD
TZOFFSETFROM:+0000
TZOFFSETTO:+0000
TZNAME:UTC
DTSTART:20220101T000000
END:STANDARD
END:VTIMEZONE
BEGIN:VEVENT
DTSTART;TZID=UTC:20220101T000000
DTEND;TZID=UTC:20220101T003000
DTSTAMP:20260423T171757
CREATED:20211015T143854Z
LAST-MODIFIED:20211015T143854Z
UID:4724-1640995200-1640997000@colegiosanfco.cl
SUMMARY:Feriado
DESCRIPTION:Año Nuevo
URL:http://colegiosanfco.cl/inicio/evento/feriado-4/
CATEGORIES:Feriado
END:VEVENT
BEGIN:VEVENT
DTSTART;VALUE=DATE:20220117
DTEND;VALUE=DATE:20220118
DTSTAMP:20260423T171757
CREATED:20220116T141821Z
LAST-MODIFIED:20220116T141821Z
UID:5395-1642377600-1642463999@colegiosanfco.cl
SUMMARY:Receso Vacaciones 2022
DESCRIPTION:
URL:http://colegiosanfco.cl/inicio/evento/receso-vacaciones-2022/
CATEGORIES:Noticias
END:VEVENT
BEGIN:VEVENT
DTSTART;VALUE=DATE:20220120
DTEND;VALUE=DATE:20220121
DTSTAMP:20260423T171757
CREATED:20220120T235445Z
LAST-MODIFIED:20220121T232157Z
UID:5404-1642636800-1642723199@colegiosanfco.cl
SUMMARY:Circular 01 año 2022
DESCRIPTION:Comunicado 01 2022 \nEstimada Comunidad Educativa se da a conocer nuestro primer comunicado 2022
URL:http://colegiosanfco.cl/inicio/evento/circular-01-ano-2022/
CATEGORIES:Comunicados,Noticias
ATTACH;FMTTYPE=image/png:http://colegiosanfco.cl/inicio/wp-content/uploads/2022/01/comunicado-2022.png
END:VEVENT
END:VCALENDAR