BEGIN:VCALENDAR
VERSION:2.0
PRODID:-//Colegio San Francisco de Asís de La Florida - ECPv5.9.1//NONSGML v1.0//EN
CALSCALE:GREGORIAN
METHOD:PUBLISH
X-WR-CALNAME:Colegio San Francisco de Asís de La Florida
X-ORIGINAL-URL:http://colegiosanfco.cl/inicio
X-WR-CALDESC:Eventos para Colegio San Francisco de Asís de La Florida
BEGIN:VTIMEZONE
TZID:UTC
BEGIN:STANDARD
TZOFFSETFROM:+0000
TZOFFSETTO:+0000
TZNAME:UTC
DTSTART:20220101T000000
END:STANDARD
END:VTIMEZONE
BEGIN:VEVENT
DTSTART;TZID=UTC:20220224T080000
DTEND;TZID=UTC:20220302T170000
DTSTAMP:20260423T140631
CREATED:20220224T124401Z
LAST-MODIFIED:20220224T124520Z
UID:5418-1645689600-1646240400@colegiosanfco.cl
SUMMARY:Horario de clases 1° semana marzo 2022
DESCRIPTION:
URL:http://colegiosanfco.cl/inicio/evento/horario-de-clases-1-semana-marzo-2022/
CATEGORIES:Noticias
END:VEVENT
BEGIN:VEVENT
DTSTART;VALUE=DATE:20220301
DTEND;VALUE=DATE:20220302
DTSTAMP:20260423T140631
CREATED:20220301T150351Z
LAST-MODIFIED:20220301T150351Z
UID:5437-1646092800-1646179199@colegiosanfco.cl
SUMMARY:¿Por dónde debo ingresar y retirarme?
DESCRIPTION:Información relevante 
URL:http://colegiosanfco.cl/inicio/evento/por-donde-debo-ingresar-y-retirarme/
CATEGORIES:Comunicados,Noticias
ATTACH;FMTTYPE=image/jpeg:http://colegiosanfco.cl/inicio/wp-content/uploads/2022/03/por-donde-ingresar-PAG.jpg
END:VEVENT
BEGIN:VEVENT
DTSTART;VALUE=DATE:20220307
DTEND;VALUE=DATE:20220308
DTSTAMP:20260423T140631
CREATED:20220307T203153Z
LAST-MODIFIED:20220307T203153Z
UID:5545-1646611200-1646697599@colegiosanfco.cl
SUMMARY:Horario Pre-kínder 2022
DESCRIPTION:
URL:http://colegiosanfco.cl/inicio/evento/horario-pre-kinder-2022/
CATEGORIES:Noticias
ATTACH;FMTTYPE=image/png:http://colegiosanfco.cl/inicio/wp-content/uploads/2022/03/HORARIO-PREKINDER.png
END:VEVENT
BEGIN:VEVENT
DTSTART;TZID=UTC:20220307T080000
DTEND;TZID=UTC:20220307T170000
DTSTAMP:20260423T140631
CREATED:20220307T235742Z
LAST-MODIFIED:20220307T235742Z
UID:5551-1646640000-1646672400@colegiosanfco.cl
SUMMARY:Inicio Talleres JEC 2022
DESCRIPTION:
URL:http://colegiosanfco.cl/inicio/evento/inicio-talleres-jec-2022/
CATEGORIES:Noticias
ATTACH;FMTTYPE=image/png:http://colegiosanfco.cl/inicio/wp-content/uploads/2022/03/TALLERES-JEC.png
END:VEVENT
BEGIN:VEVENT
DTSTART;TZID=UTC:20220308T080000
DTEND;TZID=UTC:20220308T170000
DTSTAMP:20260423T140631
CREATED:20220308T111426Z
LAST-MODIFIED:20220308T111426Z
UID:5562-1646726400-1646758800@colegiosanfco.cl
SUMMARY:Conmemoración Día Internacional de la mujer 2022
DESCRIPTION:Conmemoración Día Internacional de la mujer 2022\nHoy reconocemos a todas las mujeres en especial a las que integran nuestra Comunidad Educativa\, por su destacado rol y dedicación donde cada una se desenvuelve.\nUn afectuoso saludo hoy y siempre\nColegio San Francisco de Asís de La Florida
URL:http://colegiosanfco.cl/inicio/evento/conmemoracion-dia-internacional-de-la-mujer-2022/
CATEGORIES:Celebraciones,Noticias
ATTACH;FMTTYPE=image/png:http://colegiosanfco.cl/inicio/wp-content/uploads/2022/03/8m.png
END:VEVENT
BEGIN:VEVENT
DTSTART;TZID=UTC:20220309T080000
DTEND;TZID=UTC:20220309T170000
DTSTAMP:20260423T140631
CREATED:20220309T014903Z
LAST-MODIFIED:20220309T210123Z
UID:5572-1646812800-1646845200@colegiosanfco.cl
SUMMARY:CALENDARIO DE EVALUACIONES ENSEÑANZA MEDIA 2022
DESCRIPTION:DESCARGAR
URL:http://colegiosanfco.cl/inicio/evento/calendario-de-evaluaciones-ensenanza-media-2022/
CATEGORIES:Evaluaciones,Noticias
ATTACH;FMTTYPE=image/png:http://colegiosanfco.cl/inicio/wp-content/uploads/2022/03/disg.png
END:VEVENT
BEGIN:VEVENT
DTSTART;TZID=UTC:20220309T080000
DTEND;TZID=UTC:20220309T170000
DTSTAMP:20260423T140631
CREATED:20220309T193148Z
LAST-MODIFIED:20220309T193148Z
UID:5584-1646812800-1646845200@colegiosanfco.cl
SUMMARY:Reestructuración uso casino
DESCRIPTION:Estimada Comunidad Educativa damos a conocer la restructuración de los horarios que se utilizarán para el uso de los casinos \n  \nDESCARGAR INFORMATIVO
URL:http://colegiosanfco.cl/inicio/evento/reestructuracion-uso-casino/
CATEGORIES:Noticias
ATTACH;FMTTYPE=image/png:http://colegiosanfco.cl/inicio/wp-content/uploads/2022/03/FOTO-CASI.png
END:VEVENT
BEGIN:VEVENT
DTSTART;TZID=UTC:20220310T080000
DTEND;TZID=UTC:20220310T170000
DTSTAMP:20260423T140631
CREATED:20220310T172926Z
LAST-MODIFIED:20220310T172926Z
UID:5596-1646899200-1646931600@colegiosanfco.cl
SUMMARY:CIRCULAR CORREOS PROFESORES JEFES 2022
DESCRIPTION:DESCARGAR CORREOS INSTITUCIONALES
URL:http://colegiosanfco.cl/inicio/evento/circular-correos-profesores-jefes-2022/
CATEGORIES:Circulares,Comunicados
ATTACH;FMTTYPE=image/jpeg:http://colegiosanfco.cl/inicio/wp-content/uploads/2022/03/correo-pro.jpg
END:VEVENT
BEGIN:VEVENT
DTSTART;TZID=UTC:20220310T080000
DTEND;TZID=UTC:20220310T170000
DTSTAMP:20260423T140631
CREATED:20220310T202308Z
LAST-MODIFIED:20220310T202308Z
UID:5603-1646899200-1646931600@colegiosanfco.cl
SUMMARY:MEDIOS DE COMUNUICACIONES INSTITUCIONALES 2022
DESCRIPTION:Estimada Comunidad Educativa \nReciban nuestro más cordial saludo. \nPor medio del presente informativo queremos dar a conocer los medios de comunicación institucional. \nCon el propósito de mejorar nuestra gestión en el área de las comunicaciones y poder recibir de mejor forma sus consultas es que damos a conocer nuestros canales de interacción \nDESCARGAR INFORMATIVO
URL:http://colegiosanfco.cl/inicio/evento/medios-de-comunuicaciones-institucionales-2022/
CATEGORIES:Informativos
ATTACH;FMTTYPE=image/png:http://colegiosanfco.cl/inicio/wp-content/uploads/2022/03/foto-medios-de-comu.png
END:VEVENT
BEGIN:VEVENT
DTSTART;TZID=UTC:20220317T080000
DTEND;TZID=UTC:20220317T170000
DTSTAMP:20260423T140631
CREATED:20220317T200448Z
LAST-MODIFIED:20220317T200448Z
UID:5624-1647504000-1647536400@colegiosanfco.cl
SUMMARY:Invitación Campaña Solidaria
DESCRIPTION:
URL:http://colegiosanfco.cl/inicio/evento/invitacion-campana-solidaria/
CATEGORIES:Celebraciones,Noticias
ATTACH;FMTTYPE=image/png:http://colegiosanfco.cl/inicio/wp-content/uploads/2022/03/cuaresma-fraternidad-inicia-campaña-invitando-apoyar-familias-vulnerables.png
END:VEVENT
BEGIN:VEVENT
DTSTART;TZID=UTC:20220330T080000
DTEND;TZID=UTC:20220330T170000
DTSTAMP:20260423T140631
CREATED:20220330T181655Z
LAST-MODIFIED:20220330T181658Z
UID:5704-1648627200-1648659600@colegiosanfco.cl
SUMMARY:INFORMATIVO CATEQUESIS CAMBIO DE HORARIO
DESCRIPTION:
URL:http://colegiosanfco.cl/inicio/evento/informativo-catequesis-cambio-de-horario/
CATEGORIES:Celebraciones,Circulares,Informativos,Noticias
ATTACH;FMTTYPE=image/png:http://colegiosanfco.cl/inicio/wp-content/uploads/2022/03/cambio-horario-catequesis.png
END:VEVENT
END:VCALENDAR